BEGIN:VCALENDAR
VERSION:2.0
PRODID:-//Nepean Sailing Club - ECPv6.15.17.1//NONSGML v1.0//EN
CALSCALE:GREGORIAN
METHOD:PUBLISH
X-WR-CALNAME:Nepean Sailing Club
X-ORIGINAL-URL:https://nsc.ca/an
X-WR-CALDESC:Events for Nepean Sailing Club
REFRESH-INTERVAL;VALUE=DURATION:PT1H
X-Robots-Tag:noindex
X-PUBLISHED-TTL:PT1H
BEGIN:VTIMEZONE
TZID:America/Toronto
BEGIN:DAYLIGHT
TZOFFSETFROM:-0500
TZOFFSETTO:-0400
TZNAME:EDT
DTSTART:20220313T070000
END:DAYLIGHT
BEGIN:STANDARD
TZOFFSETFROM:-0400
TZOFFSETTO:-0500
TZNAME:EST
DTSTART:20221106T060000
END:STANDARD
BEGIN:DAYLIGHT
TZOFFSETFROM:-0500
TZOFFSETTO:-0400
TZNAME:EDT
DTSTART:20230312T070000
END:DAYLIGHT
BEGIN:STANDARD
TZOFFSETFROM:-0400
TZOFFSETTO:-0500
TZNAME:EST
DTSTART:20231105T060000
END:STANDARD
BEGIN:DAYLIGHT
TZOFFSETFROM:-0500
TZOFFSETTO:-0400
TZNAME:EDT
DTSTART:20240310T070000
END:DAYLIGHT
BEGIN:STANDARD
TZOFFSETFROM:-0400
TZOFFSETTO:-0500
TZNAME:EST
DTSTART:20241103T060000
END:STANDARD
END:VTIMEZONE
BEGIN:VEVENT
DTSTART;TZID=America/Toronto:20230909T130000
DTEND;TZID=America/Toronto:20230909T160000
DTSTAMP:20260420T042146
CREATED:20230902T155259Z
LAST-MODIFIED:20230902T155259Z
UID:48748-1694264400-1694275200@nsc.ca
SUMMARY:Yoga\, Wine & Charcuterie
DESCRIPTION:YOGA WINE & CHARCUTERIE\n\n\nJoin us for a gentle\, easy beginner yoga class either on the lawn at NSC or inside Harbourview Hall (weather-dependent).\n\n$25.00 including wine and charcuterie to follow class.\nPlease register in advance on this Google form.\nBring your yoga mat or towel.\nIf you need a yoga mat\, one can be provided for $10 (yours to keep). Indicate on the form.
URL:https://nsc.ca/an/event/yoga-wine-charcuterie/
LOCATION:NSC West Lawn\, 3259 Carling Avenue\, Ottawa\, ON\, K2H 1A6\, Canada
CATEGORIES:Class,Outdoor,Yoga
ORGANIZER;CN="Social Director":MAILTO:social@nsc.ca
END:VEVENT
END:VCALENDAR